BEGIN:VCALENDAR
VERSION:2.0
PRODID:-//Acme Widgets\, Inc.//NONSGML ExportToCalendar//EN
CALSCALE:GREGORIAN
BEGIN:VEVENT
DTSTAMP:20260419T130503Z
UID:ed41f53f-d604-442a-aec5-0945f3762bd6
DTSTART:20260418T093000
DTEND:20260418T100000
DESCRIPTION:Inspection for 15A Clubpoint Drive\, CHIRNSIDE PARK VIC 3116
LOCATION:15A Clubpoint Drive\, CHIRNSIDE PARK VIC 3116
SUMMARY:15A Clubpoint Drive\, CHIRNSIDE PARK VIC 3116
END:VEVENT
END:VCALENDAR
